BEGIN:VCALENDAR
VERSION:2.0
PRODID:-//wp-events-plugin.com//7.2.3.1//EN
TZID:Europe/London
X-WR-TIMEZONE:Europe/London
BEGIN:VEVENT
UID:40@headwaycentrallancashire.org.uk
DTSTART:20170411T103000Z
DTEND:20170411T143000Z
DTSTAMP:20170330T091715Z
URL:https://www.headwaycentrallancashire.org.uk/events/walking-mind-body-2
 /
SUMMARY:Walking for Mind and Body
DESCRIPTION:The walking group is available to adults with acquired brain in
 jury.\n\nContact Margaret to boo your place on 01772 791460
LOCATION:Headway at the Heartbeat Centre\, Sir Tom Finney Way\, Preston\, P
 R1 6PA\, United Kingdom
X-APPLE-STRUCTURED-LOCATION;VALUE=URI;X-ADDRESS=Sir Tom Finney Way\, Presto
 n\, PR1 6PA\, United Kingdom;X-APPLE-RADIUS=100;X-TITLE=Headway at the Hea
 rtbeat Centre:geo:0,0
END:VEVENT
END:VCALENDAR